BEGIN:VCALENDAR
VERSION:2.0
PRODID:-//Montana Department of Revenue - ECPv5.8.1//NONSGML v1.0//EN
CALSCALE:GREGORIAN
METHOD:PUBLISH
X-WR-CALNAME:Montana Department of Revenue
X-ORIGINAL-URL:https://mtrevenue.gov
X-WR-CALDESC:Events for Montana Department of Revenue
BEGIN:VTIMEZONE
TZID:America/Denver
BEGIN:DAYLIGHT
TZOFFSETFROM:-0700
TZOFFSETTO:-0600
TZNAME:MDT
DTSTART:20200308T090000
END:DAYLIGHT
BEGIN:STANDARD
TZOFFSETFROM:-0600
TZOFFSETTO:-0700
TZNAME:MST
DTSTART:20201101T080000
END:STANDARD
END:VTIMEZONE
BEGIN:VEVENT
DTSTART;VALUE=DATE:20200907
DTEND;VALUE=DATE:20200908
DTSTAMP:20210726T204857
CREATED:20191209T171451Z
LAST-MODIFIED:20210111T150341Z
UID:28579-1599436800-1599523199@mtrevenue.gov
SUMMARY:Labor Day
DESCRIPTION:[vc_row][vc_column][vc_row_inner][vc_column_inner width=”1/4″][vc_single_image image=”28580″ img_size=”full” alignment=”center”][/vc_column_inner][vc_column_inner width=”3/4″][vc_column_text]The Montana Department of Revenue Call Center and All Locations will be closed on Monday\, September 7\, 2020\, in observation of Labor Day.[/vc_column_text][/vc_column_inner][/vc_row_inner][/vc_column][/vc_row]
URL:https://mtrevenue.gov/event/2020-labor-day/
CATEGORIES:Archived,State Holiday
ATTACH;FMTTYPE=image/png:https://mtrevenue.gov/wp-content/uploads/2019/12/09-September-07.png
END:VEVENT
END:VCALENDAR