BEGIN:VCALENDAR
VERSION:2.0
PRODID:-//Montana Department of Revenue - ECPv5.8.1//NONSGML v1.0//EN
CALSCALE:GREGORIAN
METHOD:PUBLISH
X-WR-CALNAME:Montana Department of Revenue
X-ORIGINAL-URL:https://mtrevenue.gov
X-WR-CALDESC:Events for Montana Department of Revenue
BEGIN:VTIMEZONE
TZID:America/Denver
BEGIN:DAYLIGHT
TZOFFSETFROM:-0700
TZOFFSETTO:-0600
TZNAME:MDT
DTSTART:20190310T090000
END:DAYLIGHT
BEGIN:STANDARD
TZOFFSETFROM:-0600
TZOFFSETTO:-0700
TZNAME:MST
DTSTART:20191103T080000
END:STANDARD
END:VTIMEZONE
BEGIN:VEVENT
DTSTART;VALUE=DATE:20190730
DTEND;VALUE=DATE:20190731
DTSTAMP:20210730T082113
CREATED:20190321T150348Z
LAST-MODIFIED:20190912T172849Z
UID:13227-1564444800-1564531199@mtrevenue.gov
SUMMARY:2nd Quarter 2019 CCT\, WET\, and PSR Fees Due
DESCRIPTION:[vc_row][vc_column][vc_row_inner][vc_column_inner width=”1/4″][vc_single_image image=”3413″ alignment=”center”][/vc_column_inner][vc_column_inner width=”3/4″][vc_column_text]Second Quarter 2019 Tax Returns are due for: \n\nConsumer Counsel Fee (CCT)\nPublic Service Commission Fee (PSR)\nWholesale Energy Transaction (WET) Tax\n\n[/vc_column_text][vc_column_text]\nFiling and Payment Options\n[/vc_column_text][vc_column_text]\nConsumer Counsel Fee\n[/vc_column_text][vc_column_text]\n\nTransAction Portal (TAP)\nACH Credit payment\nConsumer Counsel Fee(Form CCT)\n\n[/vc_column_text][vc_column_text]\nPublic Service Regulation Fee\n[/vc_column_text][vc_column_text]\n\nTransAction Portal (TAP)\nACH Credit Payment\nPublic Service Regulation (Form PSR)\n\n[/vc_column_text][vc_column_text]\nWholesale Energy Transaction Tax\n[/vc_column_text][vc_column_text]\n\nFile and pay through our TransAction Portal (TAP)\nACH Credit Payments\nWholesale Energy Transaction Tax (Form WET)\n\n[/vc_column_text][/vc_column_inner][/vc_row_inner][/vc_column][/vc_row]
URL:https://mtrevenue.gov/event/2019-q02-cct-wet-psr-due/
CATEGORIES:Archived,Due Dates
ATTACH;FMTTYPE=image/svg+xml:https://mtrevenue.gov/wp-content/uploads/2018/01/Taxes-and-Fees-Tile.svg
END:VEVENT
END:VCALENDAR