BEGIN:VCALENDAR
VERSION:2.0
PRODID:-//Montana Department of Revenue - ECPv5.8.1//NONSGML v1.0//EN
CALSCALE:GREGORIAN
METHOD:PUBLISH
X-WR-CALNAME:Montana Department of Revenue
X-ORIGINAL-URL:https://mtrevenue.gov
X-WR-CALDESC:Events for Montana Department of Revenue
BEGIN:VTIMEZONE
TZID:America/Denver
BEGIN:DAYLIGHT
TZOFFSETFROM:-0700
TZOFFSETTO:-0600
TZNAME:MDT
DTSTART:20190310T090000
END:DAYLIGHT
BEGIN:STANDARD
TZOFFSETFROM:-0600
TZOFFSETTO:-0700
TZNAME:MST
DTSTART:20191103T080000
END:STANDARD
END:VTIMEZONE
BEGIN:VEVENT
DTSTART;VALUE=DATE:20190815
DTEND;VALUE=DATE:20190816
DTSTAMP:20210729T184407
CREATED:20190321T151345Z
LAST-MODIFIED:20190912T172829Z
UID:13232-1565827200-1565913599@mtrevenue.gov
SUMMARY:Monthly Withholding Payments Due
DESCRIPTION:[vc_row][vc_column width=”1/4″][vc_single_image image=”3413″ img_size=”full” alignment=”center”][/vc_column][vc_column width=”3/4″][vc_column_text]July 2019 withholding payments due for businesses on the monthly withholding schedule. \nPayment Options\n\nTransAction Portal (TAP)\,\nBusiness Tax Express\,\nApproved Withholding Tax Software Vendors\,\nACH Credit Payment\nMontana Withholding Tax Payment Voucher (Form MW-1)\n\n[/vc_column_text][/vc_column][/vc_row]
URL:https://mtrevenue.gov/event/2019-07-monthly-withholding-payments/
CATEGORIES:Archived,Due Dates,Withholding
ATTACH;FMTTYPE=image/svg+xml:https://mtrevenue.gov/wp-content/uploads/2018/01/Business-Tile.svg
END:VEVENT
END:VCALENDAR